BEGIN:VCALENDAR
VERSION:2.0
PRODID:-//Bird City Brunswick - ECPv6.15.20//NONSGML v1.0//EN
CALSCALE:GREGORIAN
METHOD:PUBLISH
X-ORIGINAL-URL:https://birdcitybrunswick.org
X-WR-CALDESC:Events for Bird City Brunswick
REFRESH-INTERVAL;VALUE=DURATION:PT1H
X-Robots-Tag:noindex
X-PUBLISHED-TTL:PT1H
BEGIN:VTIMEZONE
TZID:UTC
BEGIN:STANDARD
TZOFFSETFROM:+0000
TZOFFSETTO:+0000
TZNAME:UTC
DTSTART:20220101T000000
END:STANDARD
END:VTIMEZONE
BEGIN:VEVENT
DTSTART;TZID=UTC:20231111T090000
DTEND;TZID=UTC:20231111T100000
DTSTAMP:20260423T183002
CREATED:20240706T073510Z
LAST-MODIFIED:20240718T161037Z
UID:601-1699693200-1699696800@birdcitybrunswick.org
SUMMARY:First Annual Brunswick Appalachian Trail Community Clean Up
DESCRIPTION:The Brunswick Appalachian Trail Community Committee sponsors trail clean ups at Weverton where the A.T. meets the C&O Canal NHP towpath. We need lots of help to keep our trail looking beautiful. Come out and join us!
URL:https://birdcitybrunswick.org/events/first-annual-brunswick-appalachian-trail-community-clean-up/
LOCATION:Appalachian Trail and C&O Canal Intersection
CATEGORIES:Volunteer
ORGANIZER;CN="The Brunswick Appalachian Trail Community":MAILTO:aingram@brunswickmd.gov
END:VEVENT
END:VCALENDAR